BEGIN:VCALENDAR
VERSION:2.0
PRODID:-//NMOST - ECPv6.15.20//NONSGML v1.0//EN
CALSCALE:GREGORIAN
METHOD:PUBLISH
X-WR-CALNAME:NMOST
X-ORIGINAL-URL:https://nmost.org
X-WR-CALDESC:Events for NMOST
REFRESH-INTERVAL;VALUE=DURATION:PT1H
X-Robots-Tag:noindex
X-PUBLISHED-TTL:PT1H
BEGIN:VTIMEZONE
TZID:America/Denver
BEGIN:DAYLIGHT
TZOFFSETFROM:-0700
TZOFFSETTO:-0600
TZNAME:MDT
DTSTART:20240310T090000
END:DAYLIGHT
BEGIN:STANDARD
TZOFFSETFROM:-0600
TZOFFSETTO:-0700
TZNAME:MST
DTSTART:20241103T080000
END:STANDARD
BEGIN:DAYLIGHT
TZOFFSETFROM:-0700
TZOFFSETTO:-0600
TZNAME:MDT
DTSTART:20250309T090000
END:DAYLIGHT
BEGIN:STANDARD
TZOFFSETFROM:-0600
TZOFFSETTO:-0700
TZNAME:MST
DTSTART:20251102T080000
END:STANDARD
BEGIN:DAYLIGHT
TZOFFSETFROM:-0700
TZOFFSETTO:-0600
TZNAME:MDT
DTSTART:20260308T090000
END:DAYLIGHT
BEGIN:STANDARD
TZOFFSETFROM:-0600
TZOFFSETTO:-0700
TZNAME:MST
DTSTART:20261101T080000
END:STANDARD
END:VTIMEZONE
BEGIN:VEVENT
DTSTART;TZID=America/Denver:20250910T130000
DTEND;TZID=America/Denver:20250910T140000
DTSTAMP:20260424T124637
CREATED:20250822T204318Z
LAST-MODIFIED:20250825T200322Z
UID:6206-1757509200-1757512800@nmost.org
SUMMARY:Career-Connected Learning: A Framework for Out-of-School Time Providers Launch
DESCRIPTION:Join STEM Next for a national back-to-school launch event to spotlight Career-Connected Learning: A Framework for Out-of-School Time Providers\, STEM Next’s bold new tool designed to accelerate and expand career-connected learning in afterschool and summer programs across the country. \nDate: Wednesday\, September 10th\, 2025\nTime: 3:00 PM EST / 12:00 PM PST \nThis event marks the start of a coordinated national effort to amplify the framework’s strategies\, showcase its early champions\, and preview a suite of supports for the Out-of-School Time (OST) field — including provider trainings and a systems-level playbook. Building on the success of STEM Next’s Million Girls Moonshot\, this framework offers a practical\, field-informed guide for OST providers\, educators\, system leaders\, and cross-sector partners to deliver high-quality\, career-connected STEM experiences. \nPanelists include: \n\nChristine Cunningham\, Senior Vice President\, STEM Learning\, Museum of Science\nJoel Vargas\, Vice President\, Jobs for the Future\nZelda Waymer\, President & Chief Executive Officer\, South Carolina Afterschool Network\nDelia Meza\, Director of Family Learning and Community Partnerships\, New York Hall of Science\n\nThis event is designed for national and state-level leaders in STEM; OST providers and system leaders; and partners engaged in education solutions that advance career pathways for youth. \n\n\n\nRegister
URL:https://nmost.org/event/career-connected-learning-a-framework-for-out-of-school-time-providers-launch/
ORGANIZER;CN="STEM Next":MAILTO:info@stemnext.org
END:VEVENT
BEGIN:VEVENT
DTSTART;TZID=America/Denver:20250910T130000
DTEND;TZID=America/Denver:20250910T140000
DTSTAMP:20260424T124637
CREATED:20250910T211204Z
LAST-MODIFIED:20250910T211204Z
UID:6235-1757509200-1757512800@nmost.org
SUMMARY:Career-Connected Learning Training: Engaging Families and Communities Part 1
DESCRIPTION:Families and communities play a vital role in helping young people see STEM as part of their future. In this training session\, attendees will explore STEM Next’s Career-Connected Learning Framework for Out-of-School Time Providers\, with a focus on Family and Community Engagement. Participants will learn practical strategies to involve parents\, caregivers\, and community partners in STEM career exploration\, with actionable steps to build ongoing family engagement and career-connected STEM activities to share with families and partners. \nAudience: This training is designed for out-of-school time program providers and staff\, including directors\, professional development and quality specialists\, and facilitators. It is also ideal for out-of-school time organizations\, including museum and library staff. \nAttendees who complete the post-training survey will be entered into a raffle to win a $100 Amazon gift card for their program. \n\n\n\nRegister
URL:https://nmost.org/event/career-connected-learning-training-engaging-families-and-communities-part-1/
ORGANIZER;CN="STEM Next":MAILTO:info@stemnext.org
END:VEVENT
END:VCALENDAR