BEGIN:VCALENDAR
VERSION:2.0
PRODID:-//NMOST - ECPv6.15.20//NONSGML v1.0//EN
CALSCALE:GREGORIAN
METHOD:PUBLISH
X-ORIGINAL-URL:https://nmost.org
X-WR-CALDESC:Events for NMOST
REFRESH-INTERVAL;VALUE=DURATION:PT1H
X-Robots-Tag:noindex
X-PUBLISHED-TTL:PT1H
BEGIN:VTIMEZONE
TZID:America/Denver
BEGIN:DAYLIGHT
TZOFFSETFROM:-0700
TZOFFSETTO:-0600
TZNAME:MDT
DTSTART:20240310T090000
END:DAYLIGHT
BEGIN:STANDARD
TZOFFSETFROM:-0600
TZOFFSETTO:-0700
TZNAME:MST
DTSTART:20241103T080000
END:STANDARD
BEGIN:DAYLIGHT
TZOFFSETFROM:-0700
TZOFFSETTO:-0600
TZNAME:MDT
DTSTART:20250309T090000
END:DAYLIGHT
BEGIN:STANDARD
TZOFFSETFROM:-0600
TZOFFSETTO:-0700
TZNAME:MST
DTSTART:20251102T080000
END:STANDARD
BEGIN:DAYLIGHT
TZOFFSETFROM:-0700
TZOFFSETTO:-0600
TZNAME:MDT
DTSTART:20260308T090000
END:DAYLIGHT
BEGIN:STANDARD
TZOFFSETFROM:-0600
TZOFFSETTO:-0700
TZNAME:MST
DTSTART:20261101T080000
END:STANDARD
END:VTIMEZONE
BEGIN:VEVENT
DTSTART;TZID=America/Denver:20250920T150000
DTEND;TZID=America/Denver:20250920T160000
DTSTAMP:20260424T124757
CREATED:20250822T182254Z
LAST-MODIFIED:20250822T182254Z
UID:6202-1758380400-1758384000@nmost.org
SUMMARY:2025 Space Apps Albuquerque Webinar
DESCRIPTION:2025 NASA Space Apps\, Albuquerque: Webinar Registration\n\n\n“Albuquerque\, we have a problem…” \n🌍 NASA International Space Apps Challenge\, Albuquerque: Informational Webinar\nFirst time hearing about the NASA International Space Apps Challenge? Heard about the prizes and want to know how to win? Whether you’re a coder\, artist\, student\, scientist\, or someone who wants to make the world a better place\, this webinar is for you! \nJoin us for a lively and insightful session to explore the world’s largest and most exciting hackathon\, right here in Albuquerque! We’ll talk about how you can participate (no\, you don’t have to be a rocket scientist!)\, how to prepare\, and what the event weekend will look like. Plus\, there will be space at the end of the presentation to answer all of your burning questions! (See what we did there?) 🌠 \nDuring each webinar\, presenters will discuss:\n✅ How to register ✍️\n✅ Past project showcases 🖼️\n✅ Q&A with organizers 💡\n✅ What you can win 💸 \n👇 Fill out this form to receive webinar dates & times: \n\n\nRegister
URL:https://nmost.org/event/2025-space-apps-albuquerque-webinar/
END:VEVENT
END:VCALENDAR