BEGIN:VCALENDAR
VERSION:2.0
PRODID:-//NMOST - ECPv6.15.20//NONSGML v1.0//EN
CALSCALE:GREGORIAN
METHOD:PUBLISH
X-ORIGINAL-URL:https://nmost.org
X-WR-CALDESC:Events for NMOST
REFRESH-INTERVAL;VALUE=DURATION:PT1H
X-Robots-Tag:noindex
X-PUBLISHED-TTL:PT1H
BEGIN:VTIMEZONE
TZID:America/Denver
BEGIN:DAYLIGHT
TZOFFSETFROM:-0700
TZOFFSETTO:-0600
TZNAME:MDT
DTSTART:20240310T090000
END:DAYLIGHT
BEGIN:STANDARD
TZOFFSETFROM:-0600
TZOFFSETTO:-0700
TZNAME:MST
DTSTART:20241103T080000
END:STANDARD
BEGIN:DAYLIGHT
TZOFFSETFROM:-0700
TZOFFSETTO:-0600
TZNAME:MDT
DTSTART:20250309T090000
END:DAYLIGHT
BEGIN:STANDARD
TZOFFSETFROM:-0600
TZOFFSETTO:-0700
TZNAME:MST
DTSTART:20251102T080000
END:STANDARD
BEGIN:DAYLIGHT
TZOFFSETFROM:-0700
TZOFFSETTO:-0600
TZNAME:MDT
DTSTART:20260308T090000
END:DAYLIGHT
BEGIN:STANDARD
TZOFFSETFROM:-0600
TZOFFSETTO:-0700
TZNAME:MST
DTSTART:20261101T080000
END:STANDARD
END:VTIMEZONE
BEGIN:VEVENT
DTSTART;TZID=America/Denver:20250924T103000
DTEND;TZID=America/Denver:20250924T113000
DTSTAMP:20260424T124755
CREATED:20250825T163256Z
LAST-MODIFIED:20250825T163256Z
UID:6217-1758709800-1758713400@nmost.org
SUMMARY:ACRES: Make Math Meaningful- Back pocket ideas
DESCRIPTION:We know there are so many topics to cover in the fall as you onboard staff. Let the ACRES team help. Math resources will be showcased and shared so staff have tools in their back pockets to make math meaningful and move beyond just helping with homework.  This is a free\, LIVE\,  virtual workshop that will last 45 minutes FMI email acres@mmsa.org. \nTo register\, go to the ACRES 2025 workshops registration form.
URL:https://nmost.org/event/acres-make-math-meaningful-back-pocket-ideas/
ORGANIZER;CN="ACRES%3A Afterschool Coaching for Reflective Educators in STEM":MAILTO:acres@mmsa.org
END:VEVENT
BEGIN:VEVENT
DTSTART;TZID=America/Denver:20250924T130000
DTEND;TZID=America/Denver:20250924T140000
DTSTAMP:20260424T124755
CREATED:20250822T210138Z
LAST-MODIFIED:20250822T210138Z
UID:6208-1758718800-1758722400@nmost.org
SUMMARY:An Introduction to Career-Connected Learning and a Framework to Support Out-of-School Time Providers
DESCRIPTION:Description: At STEM Next Opportunity Fund\, we are bringing career-connected learning to out-of-school time educators! We are accelerating our efforts to advance career-connected learning in afterschool and summer learning programs with the introduction of the Career-Connected Learning: A Framework for Out-of-School Time Providers. This new Framework is an actionable tool for out-of-school time providers and staff who want to design and implement career-connected STEM learning experiences in out-of-school time—afterschool and summer programs. In this training\, attendees will be introduced to the concept of career-connected learning\, dive into the Framework and its four main strategies\, and leave with materials to support professional development for staff and three career-connected learning STEM lessons to facilitate with youth.  \nAudience: This training is designed for out-of-school time program providers and staff\, including directors\, professional development and quality specialists\, and facilitators. It is also ideal for out-of-school time organizations\, including museum and library staff. \nAttendees who complete the post-training survey will be entered into a raffle to win a $100 Amazon gift card for their program. \nRegister today!: https://us02web.zoom.us/meeting/register/t5-k1TucRx2JDYBxd1nK9w 
URL:https://nmost.org/event/an-introduction-to-career-connected-learning-and-a-framework-to-support-out-of-school-time-providers/
ORGANIZER;CN="STEM Next":MAILTO:info@stemnext.org
END:VEVENT
BEGIN:VEVENT
DTSTART;TZID=America/Denver:20250924T140000
DTEND;TZID=America/Denver:20250924T150000
DTSTAMP:20260424T124755
CREATED:20250825T162639Z
LAST-MODIFIED:20250912T155659Z
UID:6215-1758722400-1758726000@nmost.org
SUMMARY:YEI Power Hour: Launching an Entrepreneurship Club
DESCRIPTION:YEI Power Hours are hosted by Young Entrepreneur Institute\, where we believe every child should understand and experience entrepreneurship. Learn more about our programs at www.youngentrepreneurinstitute.org. \nOur Educator Power Hour for September is focused on Launching an Entrepreneurship Club is on Wednesday\, September 24\, at 4-5 PM EST. Register by completing this form. \nContact echois@us.edu with any questions.
URL:https://nmost.org/event/yei-power-hour-launching-an-entrepreneurship-club/
END:VEVENT
BEGIN:VEVENT
DTSTART;TZID=America/Denver:20250924T160000
DTEND;TZID=America/Denver:20250924T170000
DTSTAMP:20260424T124755
CREATED:20250819T154638Z
LAST-MODIFIED:20250819T154638Z
UID:6194-1758729600-1758733200@nmost.org
SUMMARY:Project Scientist Program Partner Information Session
DESCRIPTION:Join Project Scientist for an upcoming Program Information Session to learn more about what it means to become a Program Partner by bringing Project Scientist to girls in your community. \n\n\n\n\n\n\nDate: September 24\, 2025 \nTime: 3:00pm PT\, 5:00pm CT\, 6:00pm ET \nLocation: Virtual Zoom Link \n\n\n\nRegister Today\nIf you have questions or concerns\, please reach out to info@projectscientist.org
URL:https://nmost.org/event/project-scientist-program-partner-information-session/
END:VEVENT
END:VCALENDAR