BEGIN:VCALENDAR
VERSION:2.0
PRODID:-//NMOST - ECPv6.15.20//NONSGML v1.0//EN
CALSCALE:GREGORIAN
METHOD:PUBLISH
X-WR-CALNAME:NMOST
X-ORIGINAL-URL:https://nmost.org
X-WR-CALDESC:Events for NMOST
REFRESH-INTERVAL;VALUE=DURATION:PT1H
X-Robots-Tag:noindex
X-PUBLISHED-TTL:PT1H
BEGIN:VTIMEZONE
TZID:America/Denver
BEGIN:DAYLIGHT
TZOFFSETFROM:-0700
TZOFFSETTO:-0600
TZNAME:MDT
DTSTART:20240310T090000
END:DAYLIGHT
BEGIN:STANDARD
TZOFFSETFROM:-0600
TZOFFSETTO:-0700
TZNAME:MST
DTSTART:20241103T080000
END:STANDARD
BEGIN:DAYLIGHT
TZOFFSETFROM:-0700
TZOFFSETTO:-0600
TZNAME:MDT
DTSTART:20250309T090000
END:DAYLIGHT
BEGIN:STANDARD
TZOFFSETFROM:-0600
TZOFFSETTO:-0700
TZNAME:MST
DTSTART:20251102T080000
END:STANDARD
BEGIN:DAYLIGHT
TZOFFSETFROM:-0700
TZOFFSETTO:-0600
TZNAME:MDT
DTSTART:20260308T090000
END:DAYLIGHT
BEGIN:STANDARD
TZOFFSETFROM:-0600
TZOFFSETTO:-0700
TZNAME:MST
DTSTART:20261101T080000
END:STANDARD
END:VTIMEZONE
BEGIN:VEVENT
DTSTART;TZID=America/Denver:20251028T170000
DTEND;TZID=America/Denver:20251028T180000
DTSTAMP:20260422T110727
CREATED:20251002T174616Z
LAST-MODIFIED:20251002T174616Z
UID:6323-1761670800-1761674400@nmost.org
SUMMARY:YES Curriculum in Action: Classroom Stories & Tips from Real Educators
DESCRIPTION:Want real-world advice on implementing YES engineering units? Join us for a fast-paced\, story-rich webinar with classroom educators who’ve run YES in their schools. They’ll share which units they chose\, how they prepped and organized materials\, what facilitation moves kept students engaged\, and the impact they saw in student collaboration\, confidence\, and problem-solving. Sign up here.
URL:https://nmost.org/event/yes-curriculum-in-action-classroom-stories-tips-from-real-educators/
LOCATION:NM
END:VEVENT
END:VCALENDAR