BEGIN:VCALENDAR
VERSION:2.0
PRODID:-//NMOST - ECPv6.15.20//NONSGML v1.0//EN
CALSCALE:GREGORIAN
METHOD:PUBLISH
X-WR-CALNAME:NMOST
X-ORIGINAL-URL:https://nmost.org
X-WR-CALDESC:Events for NMOST
REFRESH-INTERVAL;VALUE=DURATION:PT1H
X-Robots-Tag:noindex
X-PUBLISHED-TTL:PT1H
BEGIN:VTIMEZONE
TZID:America/Denver
BEGIN:DAYLIGHT
TZOFFSETFROM:-0700
TZOFFSETTO:-0600
TZNAME:MDT
DTSTART:20240310T090000
END:DAYLIGHT
BEGIN:STANDARD
TZOFFSETFROM:-0600
TZOFFSETTO:-0700
TZNAME:MST
DTSTART:20241103T080000
END:STANDARD
BEGIN:DAYLIGHT
TZOFFSETFROM:-0700
TZOFFSETTO:-0600
TZNAME:MDT
DTSTART:20250309T090000
END:DAYLIGHT
BEGIN:STANDARD
TZOFFSETFROM:-0600
TZOFFSETTO:-0700
TZNAME:MST
DTSTART:20251102T080000
END:STANDARD
BEGIN:DAYLIGHT
TZOFFSETFROM:-0700
TZOFFSETTO:-0600
TZNAME:MDT
DTSTART:20260308T090000
END:DAYLIGHT
BEGIN:STANDARD
TZOFFSETFROM:-0600
TZOFFSETTO:-0700
TZNAME:MST
DTSTART:20261101T080000
END:STANDARD
END:VTIMEZONE
BEGIN:VEVENT
DTSTART;TZID=America/Denver:20251030T120000
DTEND;TZID=America/Denver:20251030T130000
DTSTAMP:20260422T110827
CREATED:20250916T220902Z
LAST-MODIFIED:20250917T161554Z
UID:6246-1761825600-1761829200@nmost.org
SUMMARY:Power of Us Webinar: Lessons Learned & Actions to Support the Youth Fields Workforce
DESCRIPTION:Join Every Hour Counts on Thursday\, October 30 from 2-3pm ET for a conversation exploring key findings from the Power of Us Workforce Survey\, a national study led by the American Institutes for Research (AIR) and commissioned by The Wallace Foundation. With responses from more than 10\,000 youth-serving professionals\, this cross-sector survey offers a first-of-its-kind look at the workforce that supports young people beyond the school day. \nFrom career pathways to compensation\, the survey surfaces critical insights about the people at the heart of afterschool and summer programs—who they are\, what they value\, and what they need to thrive. We’ll unpack what the data means for systems leaders\, funders\, and advocates—and how we can take collective action to better support this essential workforce. \nRegister
URL:https://nmost.org/event/power-of-us-webinar-lessons-learned-actions-to-support-the-youth-fields-workforce/
LOCATION:NM
END:VEVENT
END:VCALENDAR