BEGIN:VCALENDAR
VERSION:2.0
PRODID:-//NMOST - ECPv6.15.20//NONSGML v1.0//EN
CALSCALE:GREGORIAN
METHOD:PUBLISH
X-WR-CALNAME:NMOST
X-ORIGINAL-URL:https://nmost.org
X-WR-CALDESC:Events for NMOST
REFRESH-INTERVAL;VALUE=DURATION:PT1H
X-Robots-Tag:noindex
X-PUBLISHED-TTL:PT1H
BEGIN:VTIMEZONE
TZID:America/Denver
BEGIN:DAYLIGHT
TZOFFSETFROM:-0700
TZOFFSETTO:-0600
TZNAME:MDT
DTSTART:20240310T090000
END:DAYLIGHT
BEGIN:STANDARD
TZOFFSETFROM:-0600
TZOFFSETTO:-0700
TZNAME:MST
DTSTART:20241103T080000
END:STANDARD
BEGIN:DAYLIGHT
TZOFFSETFROM:-0700
TZOFFSETTO:-0600
TZNAME:MDT
DTSTART:20250309T090000
END:DAYLIGHT
BEGIN:STANDARD
TZOFFSETFROM:-0600
TZOFFSETTO:-0700
TZNAME:MST
DTSTART:20251102T080000
END:STANDARD
BEGIN:DAYLIGHT
TZOFFSETFROM:-0700
TZOFFSETTO:-0600
TZNAME:MDT
DTSTART:20260308T090000
END:DAYLIGHT
BEGIN:STANDARD
TZOFFSETFROM:-0600
TZOFFSETTO:-0700
TZNAME:MST
DTSTART:20261101T080000
END:STANDARD
END:VTIMEZONE
BEGIN:VEVENT
DTSTART;VALUE=DATE:20251108
DTEND;VALUE=DATE:20251109
DTSTAMP:20260422T110827
CREATED:20250814T193512Z
LAST-MODIFIED:20250814T193512Z
UID:6189-1762560000-1762646399@nmost.org
SUMMARY:STEM Pathways for Girls
DESCRIPTION:Explore a variety of different STEM careers through a full day of workshops all led by professional women in STEM.
URL:https://nmost.org/event/stem-pathways-for-girls-2/
LOCATION:Santa Fe Community College\, 6401 Richards Ave\, Santa Fe\, NM\, Santa Fe\, NM\, 87508\, United States
END:VEVENT
BEGIN:VEVENT
DTSTART;TZID=America/Denver:20251108T100000
DTEND;TZID=America/Denver:20251108T130000
DTSTAMP:20260422T110827
CREATED:20251027T191559Z
LAST-MODIFIED:20251027T191559Z
UID:6350-1762596000-1762606800@nmost.org
SUMMARY:2025 NMSU Learn-A-Palooza
DESCRIPTION:2025 NMSU Learn-A-Palooza\n                      \nEvent Schedule\n9:00 – 10:00 am: NMSU Homecoming Parade on University Drive\n10:00 am: Learn-A-Palooza kick-off at the Corbett Ceter Outdoor Stage\n10:00 – 1:00 pm: Vist the indoor and outdoor Learn-A-Palooza games\, activities\, and info booths! \nPlus enjoy free food\, Kona Ice\, K-12 student performances\, and the Sensation of Sublimation with Professor Bah Boom! \nSchools can sign up to request a bus. Buses are limited\, GISD will confirm availability and the district will request buses. Chaperone stipends of $150 are available for up to three chaperones (1 chaperone to 15 students ratio).\nMiddle and High School ONLY: Interested in staying for the Aggie Homecoming Football game against Kennesaw State from 2 – 5:30 pm? Let us know on this form! \nStudents can bring their stamped event passports to the registration tent for a complimentary *t-shirt and prize\n*T-shirts distributed while supplies last.\nRegister here.
URL:https://nmost.org/event/2025-nmsu-learn-a-palooza/
LOCATION:NM
END:VEVENT
END:VCALENDAR