BEGIN:VCALENDAR
VERSION:2.0
PRODID:-//NMOST - ECPv6.15.20//NONSGML v1.0//EN
CALSCALE:GREGORIAN
METHOD:PUBLISH
X-WR-CALNAME:NMOST
X-ORIGINAL-URL:https://nmost.org
X-WR-CALDESC:Events for NMOST
REFRESH-INTERVAL;VALUE=DURATION:PT1H
X-Robots-Tag:noindex
X-PUBLISHED-TTL:PT1H
BEGIN:VTIMEZONE
TZID:America/Denver
BEGIN:DAYLIGHT
TZOFFSETFROM:-0700
TZOFFSETTO:-0600
TZNAME:MDT
DTSTART:20240310T090000
END:DAYLIGHT
BEGIN:STANDARD
TZOFFSETFROM:-0600
TZOFFSETTO:-0700
TZNAME:MST
DTSTART:20241103T080000
END:STANDARD
BEGIN:DAYLIGHT
TZOFFSETFROM:-0700
TZOFFSETTO:-0600
TZNAME:MDT
DTSTART:20250309T090000
END:DAYLIGHT
BEGIN:STANDARD
TZOFFSETFROM:-0600
TZOFFSETTO:-0700
TZNAME:MST
DTSTART:20251102T080000
END:STANDARD
BEGIN:DAYLIGHT
TZOFFSETFROM:-0700
TZOFFSETTO:-0600
TZNAME:MDT
DTSTART:20260308T090000
END:DAYLIGHT
BEGIN:STANDARD
TZOFFSETFROM:-0600
TZOFFSETTO:-0700
TZNAME:MST
DTSTART:20261101T080000
END:STANDARD
END:VTIMEZONE
BEGIN:VEVENT
DTSTART;TZID=America/Denver:20251118T140000
DTEND;TZID=America/Denver:20251118T160000
DTSTAMP:20260422T110826
CREATED:20250729T183326Z
LAST-MODIFIED:20250729T183326Z
UID:6124-1763474400-1763481600@nmost.org
SUMMARY:Explora: AI for Early Childhood Workshop
DESCRIPTION:Join us for activities exploring artificial intelligence for young learners. You’ll immediately be able to apply these ideas with your students! \nRegister
URL:https://nmost.org/event/explora-ai-for-early-childhood-workshop/
LOCATION:NM
ORGANIZER;CN="Explora":MAILTO:explora@explora.us
END:VEVENT
BEGIN:VEVENT
DTSTART;TZID=America/Denver:20251118T160000
DTEND;TZID=America/Denver:20251118T170000
DTSTAMP:20260422T110826
CREATED:20251001T223619Z
LAST-MODIFIED:20251001T223619Z
UID:6304-1763481600-1763485200@nmost.org
SUMMARY:GWC Workshop #3: Job Search Tips & Tricks
DESCRIPTION:Join Girls Who Code for this workshop to hear from multiple tech companies share best practices when job searching! \n\n\n\n\n\n\n\n\n\n\n\n\n\n\n\nWant to learn more? We recommend viewing our resources under ‘Job Search Tips & Tricks’ in Upskill with GWC through IBM SkillsBuild. \nIf you have any questions regarding this event\, please check out some of our FAQs below or here for additional questions. \n\n\n\n\n\n\n\n\n\n\n\nIf you are aged 18 – 26 and interested in elevating your early career tech journey\, you are eligible to participate in Upskill Series! We are excited to offer this opportunity to our early career community. \nRegister
URL:https://nmost.org/event/gwc-workshop-3-job-search-tips-tricks/
LOCATION:NM
ORGANIZER;CN="Girls Who Code":MAILTO:info@girlswhocode.com
END:VEVENT
END:VCALENDAR