BEGIN:VCALENDAR
VERSION:2.0
PRODID:-//NMOST - ECPv6.15.20//NONSGML v1.0//EN
CALSCALE:GREGORIAN
METHOD:PUBLISH
X-WR-CALNAME:NMOST
X-ORIGINAL-URL:https://nmost.org
X-WR-CALDESC:Events for NMOST
REFRESH-INTERVAL;VALUE=DURATION:PT1H
X-Robots-Tag:noindex
X-PUBLISHED-TTL:PT1H
BEGIN:VTIMEZONE
TZID:America/Denver
BEGIN:DAYLIGHT
TZOFFSETFROM:-0700
TZOFFSETTO:-0600
TZNAME:MDT
DTSTART:20240310T090000
END:DAYLIGHT
BEGIN:STANDARD
TZOFFSETFROM:-0600
TZOFFSETTO:-0700
TZNAME:MST
DTSTART:20241103T080000
END:STANDARD
BEGIN:DAYLIGHT
TZOFFSETFROM:-0700
TZOFFSETTO:-0600
TZNAME:MDT
DTSTART:20250309T090000
END:DAYLIGHT
BEGIN:STANDARD
TZOFFSETFROM:-0600
TZOFFSETTO:-0700
TZNAME:MST
DTSTART:20251102T080000
END:STANDARD
BEGIN:DAYLIGHT
TZOFFSETFROM:-0700
TZOFFSETTO:-0600
TZNAME:MDT
DTSTART:20260308T090000
END:DAYLIGHT
BEGIN:STANDARD
TZOFFSETFROM:-0600
TZOFFSETTO:-0700
TZNAME:MST
DTSTART:20261101T080000
END:STANDARD
END:VTIMEZONE
BEGIN:VEVENT
DTSTART;TZID=America/Denver:20251119T130000
DTEND;TZID=America/Denver:20251119T140000
DTSTAMP:20260422T110823
CREATED:20250910T211351Z
LAST-MODIFIED:20250910T211351Z
UID:6237-1763557200-1763560800@nmost.org
SUMMARY:Career-Connected Learning Training: Engaging Families and Communities Part II
DESCRIPTION:In this follow-up session to the first Engaging Families and Communities training\, attendees will focus on building community partnerships that bring STEM careers to life. Participants will learn how to connect with role models\, professionals using STEM in everyday jobs\, and hubs like libraries and museums. Attendees will leave with practical approaches for engaging local partners and three career-connected STEM activities to extend learning beyond the program. \nAudience: This training is designed for out-of-school time program providers and staff\, including directors\, professional development and quality specialists\, and facilitators. It is also ideal for out-of-school time organizations\, including museum and library staff. \nAttendees who complete the post-training survey will be entered into a raffle to win a $100 Amazon gift card for their program. \nRegister
URL:https://nmost.org/event/career-connected-learning-training-engaging-families-and-communities-part-ii/
LOCATION:NM
ORGANIZER;CN="New Mexico Out-of-School Time Network":MAILTO:nmostnetwork@gmail.com
END:VEVENT
BEGIN:VEVENT
DTSTART;TZID=America/Denver:20251119T130000
DTEND;TZID=America/Denver:20251119T140000
DTSTAMP:20260422T110823
CREATED:20251111T200220Z
LAST-MODIFIED:20251111T200351Z
UID:6380-1763557200-1763560800@nmost.org
SUMMARY:Beyond the Conference: Foundations Webinar Series
DESCRIPTION:Keeping your OST program thriving beyond a grant? Easier said than done. In this second session of our Sustainability Series\, we’re diving deeper into what it really takes to build lasting impact through strong partnerships\, smart planning\, and a vision for the long haul. Missed Part 1? No worries! You can catch up anytime on our YouTube channel: https://www.youtube.com/watch?v=8DXw0WSpTCQ Hosted by Chaz Sumner & Scarlett O’Dell\, Education Specialists at Foundations\, Inc.\nYour voice matters — join the conversation live!\nRegister
URL:https://nmost.org/event/6380/
LOCATION:NM
END:VEVENT
END:VCALENDAR