BEGIN:VCALENDAR
VERSION:2.0
PRODID:-//NMOST - ECPv6.15.20//NONSGML v1.0//EN
CALSCALE:GREGORIAN
METHOD:PUBLISH
X-ORIGINAL-URL:https://nmost.org
X-WR-CALDESC:Events for NMOST
REFRESH-INTERVAL;VALUE=DURATION:PT1H
X-Robots-Tag:noindex
X-PUBLISHED-TTL:PT1H
BEGIN:VTIMEZONE
TZID:America/Denver
BEGIN:DAYLIGHT
TZOFFSETFROM:-0700
TZOFFSETTO:-0600
TZNAME:MDT
DTSTART:20240310T090000
END:DAYLIGHT
BEGIN:STANDARD
TZOFFSETFROM:-0600
TZOFFSETTO:-0700
TZNAME:MST
DTSTART:20241103T080000
END:STANDARD
BEGIN:DAYLIGHT
TZOFFSETFROM:-0700
TZOFFSETTO:-0600
TZNAME:MDT
DTSTART:20250309T090000
END:DAYLIGHT
BEGIN:STANDARD
TZOFFSETFROM:-0600
TZOFFSETTO:-0700
TZNAME:MST
DTSTART:20251102T080000
END:STANDARD
BEGIN:DAYLIGHT
TZOFFSETFROM:-0700
TZOFFSETTO:-0600
TZNAME:MDT
DTSTART:20260308T090000
END:DAYLIGHT
BEGIN:STANDARD
TZOFFSETFROM:-0600
TZOFFSETTO:-0700
TZNAME:MST
DTSTART:20261101T080000
END:STANDARD
END:VTIMEZONE
BEGIN:VEVENT
DTSTART;TZID=America/Denver:20251120T130000
DTEND;TZID=America/Denver:20251120T140000
DTSTAMP:20260422T124648
CREATED:20251001T223904Z
LAST-MODIFIED:20251001T223904Z
UID:6306-1763643600-1763647200@nmost.org
SUMMARY:Wrap-Up Spotlight with Dr. Tarika Barrett (GWC)
DESCRIPTION:Join Girls Who Code as they wrap up the first Upskill Series with Dr. Tarika Barrett! \n\n\n\n\n\n\n\n\n\n\n\n\n\n\n\n\n\nIf you have any questions regarding this event\, please check out some of our FAQs below or here for additional questions. \n\n\n\n\n\n\n\n\n\n\n\n\nIf you are aged 18 – 26 and interested in elevating your early career tech journey\, you are eligible to participate in Upskill Series! We are excited to offer this opportunity to our early career community.
URL:https://nmost.org/event/wrap-up-spotlight-with-dr-tarika-barrett-gwc/
LOCATION:NM
END:VEVENT
END:VCALENDAR