BEGIN:VCALENDAR
VERSION:2.0
PRODID:-//NMOST - ECPv6.15.20//NONSGML v1.0//EN
CALSCALE:GREGORIAN
METHOD:PUBLISH
X-WR-CALNAME:NMOST
X-ORIGINAL-URL:https://nmost.org
X-WR-CALDESC:Events for NMOST
REFRESH-INTERVAL;VALUE=DURATION:PT1H
X-Robots-Tag:noindex
X-PUBLISHED-TTL:PT1H
BEGIN:VTIMEZONE
TZID:America/Denver
BEGIN:DAYLIGHT
TZOFFSETFROM:-0700
TZOFFSETTO:-0600
TZNAME:MDT
DTSTART:20240310T090000
END:DAYLIGHT
BEGIN:STANDARD
TZOFFSETFROM:-0600
TZOFFSETTO:-0700
TZNAME:MST
DTSTART:20241103T080000
END:STANDARD
BEGIN:DAYLIGHT
TZOFFSETFROM:-0700
TZOFFSETTO:-0600
TZNAME:MDT
DTSTART:20250309T090000
END:DAYLIGHT
BEGIN:STANDARD
TZOFFSETFROM:-0600
TZOFFSETTO:-0700
TZNAME:MST
DTSTART:20251102T080000
END:STANDARD
BEGIN:DAYLIGHT
TZOFFSETFROM:-0700
TZOFFSETTO:-0600
TZNAME:MDT
DTSTART:20260308T090000
END:DAYLIGHT
BEGIN:STANDARD
TZOFFSETFROM:-0600
TZOFFSETTO:-0700
TZNAME:MST
DTSTART:20261101T080000
END:STANDARD
END:VTIMEZONE
BEGIN:VEVENT
DTSTART;TZID=America/Denver:20251121T100000
DTEND;TZID=America/Denver:20251121T110000
DTSTAMP:20260422T110848
CREATED:20251119T180605Z
LAST-MODIFIED:20251119T180605Z
UID:6412-1763719200-1763722800@nmost.org
SUMMARY:EdFunders OST Impact Group Monthly Field Convening
DESCRIPTION:Please join EdFunders OST Impact Group on the third Friday of every month 12:00 – 1:00 p.m. ET / 9:00 – 10:00 a.m. PT. Register once for the series and join as your schedule allows. You will receive the Zoom info upon registration and one day before each program. Next meeting is November 21\, 12-1PM ET. Supporting Youth Work Professionals Through Communities of Practice. There is no cost to attend these Grantmakers for Education programs.\n\nRegister
URL:https://nmost.org/event/edfunders-ost-impact-group-monthly-field-convening/
LOCATION:NM
END:VEVENT
END:VCALENDAR