BEGIN:VCALENDAR
VERSION:2.0
PRODID:-//NMOST - ECPv6.15.20//NONSGML v1.0//EN
CALSCALE:GREGORIAN
METHOD:PUBLISH
X-WR-CALNAME:NMOST
X-ORIGINAL-URL:https://nmost.org
X-WR-CALDESC:Events for NMOST
REFRESH-INTERVAL;VALUE=DURATION:PT1H
X-Robots-Tag:noindex
X-PUBLISHED-TTL:PT1H
BEGIN:VTIMEZONE
TZID:America/Denver
BEGIN:DAYLIGHT
TZOFFSETFROM:-0700
TZOFFSETTO:-0600
TZNAME:MDT
DTSTART:20250309T090000
END:DAYLIGHT
BEGIN:STANDARD
TZOFFSETFROM:-0600
TZOFFSETTO:-0700
TZNAME:MST
DTSTART:20251102T080000
END:STANDARD
BEGIN:DAYLIGHT
TZOFFSETFROM:-0700
TZOFFSETTO:-0600
TZNAME:MDT
DTSTART:20260308T090000
END:DAYLIGHT
BEGIN:STANDARD
TZOFFSETFROM:-0600
TZOFFSETTO:-0700
TZNAME:MST
DTSTART:20261101T080000
END:STANDARD
BEGIN:DAYLIGHT
TZOFFSETFROM:-0700
TZOFFSETTO:-0600
TZNAME:MDT
DTSTART:20270314T090000
END:DAYLIGHT
BEGIN:STANDARD
TZOFFSETFROM:-0600
TZOFFSETTO:-0700
TZNAME:MST
DTSTART:20271107T080000
END:STANDARD
END:VTIMEZONE
BEGIN:VEVENT
DTSTART;TZID=America/Denver:20260129T110000
DTEND;TZID=America/Denver:20260129T120000
DTSTAMP:20260422T044641
CREATED:20250630T160015Z
LAST-MODIFIED:20250630T160015Z
UID:6048-1769684400-1769688000@nmost.org
SUMMARY:Centering Youth Voice in Adult-Centric Spaces
DESCRIPTION:Young people have the insight\, passion\, and lived experience to lead meaningful change—yet too often their voices are excluded from decisions that directly affect their lives. In this dynamic Thought Leader session\, we’ll explore what it truly means to center youth voice in traditionally adult-centric spaces such as school boards\, policymaking\, nonprofit leadership\, and community planning. \nJoin us as we unpack the challenges and opportunities of shared leadership with youth. Through powerful examples and practical strategies\, participants will learn how to authentically engage young people as equal partners in decision-making\, shift adult mindsets and structures to make space for youth leadership\, and create environments where intergenerational collaboration thrives. \nWhether you’re an educator\, nonprofit professional\, policy leader\, or advocate\, this session will offer fresh insights and actionable tools for transforming your space into one that uplifts and centers the voices of young people. \nRegister
URL:https://nmost.org/event/centering-youth-voice-in-adult-centric-spaces/
LOCATION:NM
END:VEVENT
END:VCALENDAR