BEGIN:VCALENDAR
VERSION:2.0
PRODID:-//NMOST - ECPv6.15.20//NONSGML v1.0//EN
CALSCALE:GREGORIAN
METHOD:PUBLISH
X-ORIGINAL-URL:https://nmost.org
X-WR-CALDESC:Events for NMOST
REFRESH-INTERVAL;VALUE=DURATION:PT1H
X-Robots-Tag:noindex
X-PUBLISHED-TTL:PT1H
BEGIN:VTIMEZONE
TZID:America/Denver
BEGIN:DAYLIGHT
TZOFFSETFROM:-0700
TZOFFSETTO:-0600
TZNAME:MDT
DTSTART:20250309T090000
END:DAYLIGHT
BEGIN:STANDARD
TZOFFSETFROM:-0600
TZOFFSETTO:-0700
TZNAME:MST
DTSTART:20251102T080000
END:STANDARD
BEGIN:DAYLIGHT
TZOFFSETFROM:-0700
TZOFFSETTO:-0600
TZNAME:MDT
DTSTART:20260308T090000
END:DAYLIGHT
BEGIN:STANDARD
TZOFFSETFROM:-0600
TZOFFSETTO:-0700
TZNAME:MST
DTSTART:20261101T080000
END:STANDARD
BEGIN:DAYLIGHT
TZOFFSETFROM:-0700
TZOFFSETTO:-0600
TZNAME:MDT
DTSTART:20270314T090000
END:DAYLIGHT
BEGIN:STANDARD
TZOFFSETFROM:-0600
TZOFFSETTO:-0700
TZNAME:MST
DTSTART:20271107T080000
END:STANDARD
END:VTIMEZONE
BEGIN:VEVENT
DTSTART;TZID=America/Denver:20260303T080000
DTEND;TZID=America/Denver:20260303T170000
DTSTAMP:20260422T033215
CREATED:20251218T175744Z
LAST-MODIFIED:20251218T175744Z
UID:6459-1772524800-1772557200@nmost.org
SUMMARY:NMOST's 16th Annual Spring into Summer Conference
DESCRIPTION:The New Mexico Out-of-School Time Network (NMOST) invites you to attend our IN-PERSON 16th Annual Conference: Spring into Summer 2026! This is our first in-person conference since 2019 and we can’t wait to see you there! It will be held at the Embassy Suites in Albuquerque on March 3rd. \nRegistration will open early January 7th. \nFor planning purposes \n\nEarly Bird Registration will be $145 and available through February 1st\nRegular Registration will be $185 starting on February 2nd\nThe group room rate at the Embassy Suites will be $159 and the block will open when registration opens\n\n\n\n\n\n\n\n\n\n\n\n\n\n\n\n\nSave the date…mark your calendars…you won’t want to miss it!
URL:https://nmost.org/event/nmosts-16th-annual-spring-into-summer-conference/
LOCATION:NM
END:VEVENT
END:VCALENDAR