BEGIN:VCALENDAR
VERSION:2.0
PRODID:-//NMOST - ECPv6.15.20//NONSGML v1.0//EN
CALSCALE:GREGORIAN
METHOD:PUBLISH
X-WR-CALNAME:NMOST
X-ORIGINAL-URL:https://nmost.org
X-WR-CALDESC:Events for NMOST
REFRESH-INTERVAL;VALUE=DURATION:PT1H
X-Robots-Tag:noindex
X-PUBLISHED-TTL:PT1H
BEGIN:VTIMEZONE
TZID:America/Denver
BEGIN:DAYLIGHT
TZOFFSETFROM:-0700
TZOFFSETTO:-0600
TZNAME:MDT
DTSTART:20250309T090000
END:DAYLIGHT
BEGIN:STANDARD
TZOFFSETFROM:-0600
TZOFFSETTO:-0700
TZNAME:MST
DTSTART:20251102T080000
END:STANDARD
BEGIN:DAYLIGHT
TZOFFSETFROM:-0700
TZOFFSETTO:-0600
TZNAME:MDT
DTSTART:20260308T090000
END:DAYLIGHT
BEGIN:STANDARD
TZOFFSETFROM:-0600
TZOFFSETTO:-0700
TZNAME:MST
DTSTART:20261101T080000
END:STANDARD
BEGIN:DAYLIGHT
TZOFFSETFROM:-0700
TZOFFSETTO:-0600
TZNAME:MDT
DTSTART:20270314T090000
END:DAYLIGHT
BEGIN:STANDARD
TZOFFSETFROM:-0600
TZOFFSETTO:-0700
TZNAME:MST
DTSTART:20271107T080000
END:STANDARD
END:VTIMEZONE
BEGIN:VEVENT
DTSTART;TZID=America/Denver:20260305T100000
DTEND;TZID=America/Denver:20260305T104500
DTSTAMP:20260422T044637
CREATED:20260223T162201Z
LAST-MODIFIED:20260223T162201Z
UID:6739-1772704800-1772707500@nmost.org
SUMMARY:Rethinking Behavior from the Flourish Lab
DESCRIPTION:March 5\, 2026 | 10:00 AM – 10:45 AM MST\nRegister HERE\n\nIs it time to give up the behavior charts? Unlearning Traditional behavior management practices are rooted in the belief that youth behaviors develop as a result of rewards and punishments. In this workshop we discuss why these practices are limited and outdated. A fresh approach will be explored that shifts the narrative about how we think about student behavior.
URL:https://nmost.org/event/rethinking-behavior-from-the-flourish-lab/
LOCATION:NM
ORGANIZER;CN="The Floruish Lab":MAILTO:hello@theflourishlab.org
END:VEVENT
BEGIN:VEVENT
DTSTART;TZID=America/Denver:20260305T100000
DTEND;TZID=America/Denver:20260305T110000
DTSTAMP:20260422T044637
CREATED:20260225T195455Z
LAST-MODIFIED:20260225T195535Z
UID:6775-1772704800-1772708400@nmost.org
SUMMARY:Afterschool Webinar: The STEM Talk
DESCRIPTION:In just 30 minutes on the first Thursday of each month\, join experts from across the STEM landscape as they provide factual information\, practical strategies\, and actionable resources to help you navigate the ever-changing world of STEM education\, workforce development\, policy\, and advocacy. \nHosted by the Afterschool STEM Hub\, STEM Education Coalition\, and STEM Ecosystems\, TIES\, “The STEM Talk” creates a safe space for dialogue while maintaining a focus on information that matters to you and the communities you serve. \nWhether you’re an educator\, administrator\, policymaker\, or advocate\, this monthly pulse check will equip you with the knowledge and tools needed to effectively champion STEM initiatives in today’s dynamic environment. \nFeatured Speakers: \n\nJames Brown – Executive Director\, STEM Education Coalition (Regular Presenter)\nDella Cronin – Bose Public Affairs Group (Regular Presenter)\nPlus guest\, expert voices from across the STEM field.\n\nRegister
URL:https://nmost.org/event/6775/
LOCATION:NM
END:VEVENT
BEGIN:VEVENT
DTSTART;TZID=America/Denver:20260305T130000
DTEND;TZID=America/Denver:20260305T140000
DTSTAMP:20260422T044637
CREATED:20260226T164823Z
LAST-MODIFIED:20260226T164823Z
UID:6799-1772715600-1772719200@nmost.org
SUMMARY:The Quest for Student Success Starts With School Breakfast
DESCRIPTION:A nutritious morning meal can shape a student’s day\, and their future. Strong school breakfast programs are linked to better health\, improved academic performance\, increased attendance\, and more focused classroom behavior. In other words\, school breakfast isn’t just a meal; it’s an educational tool and a frontline defense against childhood hunger and food insecurity. This National School Breakfast Week\, join FRAC and a panel of child nutrition leaders for an inspiring conversation about how schools are expanding breakfast access and setting students on the path towards lifelong achievement. We’ll explore innovative strategies\, real world success stories\, and the growing movement to ensure every student starts the day nourished and ready to thrive.\n\n\n\n\nRegister
URL:https://nmost.org/event/the-quest-for-student-success-starts-with-school-breakfast/
LOCATION:NM
END:VEVENT
BEGIN:VEVENT
DTSTART;TZID=America/Denver:20260305T170000
DTEND;TZID=America/Denver:20260305T180000
DTSTAMP:20260422T044637
CREATED:20260225T221904Z
LAST-MODIFIED:20260225T221904Z
UID:6785-1772730000-1772733600@nmost.org
SUMMARY:Navigating Challenging Conversations with Courage and Care
DESCRIPTION:In times of uncertainty\, division\, and strong emotions\, having conversations across differences can feel intimidating\, especially for young people who are still finding their voices. This workshop creates a supportive space for young people to build the skills and confidence needed to engage in respectful\, meaningful dialogue\, even when conversations are hard. \nThrough interactive activities and real-world scenarios\, participants will practice listening with empathy\, expressing their perspectives with clarity\, and responding thoughtfully when emotions run high. \nNYLC is proud to partner with InnerView to bring you this session on a platform designed to support & inspire youth. \nClick here to register now!
URL:https://nmost.org/event/navigating-challenging-conversations-with-courage-and-care/
LOCATION:NM
END:VEVENT
END:VCALENDAR