BEGIN:VCALENDAR
VERSION:2.0
PRODID:-//NMOST - ECPv6.15.20//NONSGML v1.0//EN
CALSCALE:GREGORIAN
METHOD:PUBLISH
X-WR-CALNAME:NMOST
X-ORIGINAL-URL:https://nmost.org
X-WR-CALDESC:Events for NMOST
REFRESH-INTERVAL;VALUE=DURATION:PT1H
X-Robots-Tag:noindex
X-PUBLISHED-TTL:PT1H
BEGIN:VTIMEZONE
TZID:America/Denver
BEGIN:DAYLIGHT
TZOFFSETFROM:-0700
TZOFFSETTO:-0600
TZNAME:MDT
DTSTART:20250309T090000
END:DAYLIGHT
BEGIN:STANDARD
TZOFFSETFROM:-0600
TZOFFSETTO:-0700
TZNAME:MST
DTSTART:20251102T080000
END:STANDARD
BEGIN:DAYLIGHT
TZOFFSETFROM:-0700
TZOFFSETTO:-0600
TZNAME:MDT
DTSTART:20260308T090000
END:DAYLIGHT
BEGIN:STANDARD
TZOFFSETFROM:-0600
TZOFFSETTO:-0700
TZNAME:MST
DTSTART:20261101T080000
END:STANDARD
BEGIN:DAYLIGHT
TZOFFSETFROM:-0700
TZOFFSETTO:-0600
TZNAME:MDT
DTSTART:20270314T090000
END:DAYLIGHT
BEGIN:STANDARD
TZOFFSETFROM:-0600
TZOFFSETTO:-0700
TZNAME:MST
DTSTART:20271107T080000
END:STANDARD
END:VTIMEZONE
BEGIN:VEVENT
DTSTART;TZID=America/Denver:20260306T080000
DTEND;TZID=America/Denver:20260306T170000
DTSTAMP:20260422T032043
CREATED:20260305T182300Z
LAST-MODIFIED:20260305T182300Z
UID:6833-1772784000-1772816400@nmost.org
SUMMARY:Strengthening State Funding Approaches for Multilingual Learners
DESCRIPTION:On March 6\, starting at 1:00 p.m. ET\, AIR experts Rebecca Bergey and Tammy Kolbe will lead a webinar for state education leaders\, policymakers\, researchers\, local education leaders\, and others who are committed to building stronger systems for multilingual learners. This session will examine what the evidence says about effective funding approaches and explore how states can build finance systems that fairly and accurately reflect the cost of serving multilingual learners. \nRegister
URL:https://nmost.org/event/strengthening-state-funding-approaches-for-multilingual-learners/
LOCATION:NM
END:VEVENT
END:VCALENDAR