BEGIN:VCALENDAR
VERSION:2.0
PRODID:-//NMOST - ECPv6.15.20//NONSGML v1.0//EN
CALSCALE:GREGORIAN
METHOD:PUBLISH
X-WR-CALNAME:NMOST
X-ORIGINAL-URL:https://nmost.org
X-WR-CALDESC:Events for NMOST
REFRESH-INTERVAL;VALUE=DURATION:PT1H
X-Robots-Tag:noindex
X-PUBLISHED-TTL:PT1H
BEGIN:VTIMEZONE
TZID:America/Denver
BEGIN:DAYLIGHT
TZOFFSETFROM:-0700
TZOFFSETTO:-0600
TZNAME:MDT
DTSTART:20250309T090000
END:DAYLIGHT
BEGIN:STANDARD
TZOFFSETFROM:-0600
TZOFFSETTO:-0700
TZNAME:MST
DTSTART:20251102T080000
END:STANDARD
BEGIN:DAYLIGHT
TZOFFSETFROM:-0700
TZOFFSETTO:-0600
TZNAME:MDT
DTSTART:20260308T090000
END:DAYLIGHT
BEGIN:STANDARD
TZOFFSETFROM:-0600
TZOFFSETTO:-0700
TZNAME:MST
DTSTART:20261101T080000
END:STANDARD
BEGIN:DAYLIGHT
TZOFFSETFROM:-0700
TZOFFSETTO:-0600
TZNAME:MDT
DTSTART:20270314T090000
END:DAYLIGHT
BEGIN:STANDARD
TZOFFSETFROM:-0600
TZOFFSETTO:-0700
TZNAME:MST
DTSTART:20271107T080000
END:STANDARD
END:VTIMEZONE
BEGIN:VEVENT
DTSTART;TZID=America/Denver:20260310T170000
DTEND;TZID=America/Denver:20260310T180000
DTSTAMP:20260422T032059
CREATED:20260226T163354Z
LAST-MODIFIED:20260226T163648Z
UID:6793-1773162000-1773165600@nmost.org
SUMMARY:Girls Who Code's Pathways FAQ Session
DESCRIPTION:Join Girls Who Code for a live FAQ webinar all about Pathways\, our free\, virtual summer program! Our team will walk you through everything you need to know about Pathways\, including program structure\, tech tracks\, eligibility\, and the application process. We’ll answer frequently asked questions and help you decide if Pathways is the right fit for you. Along the way\, you’ll hear more about what students can expect from the experience and the lasting impact of joining the Girls Who Code community. This webinar is for anyone interested in Pathways\, including prospective applicants\, parents and families\, educators\, and community members. Pathways is open to current 8th–12th grade girls and nonbinary students\, including graduating seniors and returning participants\, with beginner to advanced coding experience.\nRegister
URL:https://nmost.org/event/girls-who-codes-pathways-faq-session/
LOCATION:NM
ORGANIZER;CN="Girls Who Code":MAILTO:info@girlswhocode.com
END:VEVENT
END:VCALENDAR