BEGIN:VCALENDAR
VERSION:2.0
PRODID:-//NMOST - ECPv6.15.20//NONSGML v1.0//EN
CALSCALE:GREGORIAN
METHOD:PUBLISH
X-WR-CALNAME:NMOST
X-ORIGINAL-URL:https://nmost.org
X-WR-CALDESC:Events for NMOST
REFRESH-INTERVAL;VALUE=DURATION:PT1H
X-Robots-Tag:noindex
X-PUBLISHED-TTL:PT1H
BEGIN:VTIMEZONE
TZID:America/Denver
BEGIN:DAYLIGHT
TZOFFSETFROM:-0700
TZOFFSETTO:-0600
TZNAME:MDT
DTSTART:20250309T090000
END:DAYLIGHT
BEGIN:STANDARD
TZOFFSETFROM:-0600
TZOFFSETTO:-0700
TZNAME:MST
DTSTART:20251102T080000
END:STANDARD
BEGIN:DAYLIGHT
TZOFFSETFROM:-0700
TZOFFSETTO:-0600
TZNAME:MDT
DTSTART:20260308T090000
END:DAYLIGHT
BEGIN:STANDARD
TZOFFSETFROM:-0600
TZOFFSETTO:-0700
TZNAME:MST
DTSTART:20261101T080000
END:STANDARD
BEGIN:DAYLIGHT
TZOFFSETFROM:-0700
TZOFFSETTO:-0600
TZNAME:MDT
DTSTART:20270314T090000
END:DAYLIGHT
BEGIN:STANDARD
TZOFFSETFROM:-0600
TZOFFSETTO:-0700
TZNAME:MST
DTSTART:20271107T080000
END:STANDARD
END:VTIMEZONE
BEGIN:VEVENT
DTSTART;TZID=America/Denver:20260311T160000
DTEND;TZID=America/Denver:20260311T170000
DTSTAMP:20260422T044747
CREATED:20260225T233527Z
LAST-MODIFIED:20260225T233527Z
UID:6791-1773244800-1773248400@nmost.org
SUMMARY:GWC Panel: Building Your Future - Careers in Emerging Tech with IBM & GWC
DESCRIPTION:Join Girls Who Code for an interactive panel featuring IBM professionals and Girls Who Code alumni\, discussing fast-growing fields like emerging technologies and quantum computing. Panelists will share insights about their career paths\, the skills they’re building now\, and ways they are engaging with new and emerging technology. The session will include time for live Q&A\, giving attendees the chance to ask questions and get real-world advice\, as well as a preview of unique learning opportunities available through IBM’s SkillsBuild platform to help you continue building in-demand technical and career-ready skills. \nAttendees can expect:   \n\nWebinar-style format\, meaning you won’t need to come camera-ready for this event.\nTo engage with their peers and guest speakers in the chat.\nAudience Q&A at the end – bring your questions for our panelists!\n\nAttend this event if you are…  \n\nCurious about new and emerging technology and how to position yourself for a career in one of these fields.\nLooking to get connected to a community of peers also building their futures in tech.\nInterested in asynchronous learning opportunities\, including digital credentials\, to expand your skills and resume.\n\nRegister
URL:https://nmost.org/event/gwc-panel-building-your-future-careers-in-emerging-tech-with-ibm-gwc/
LOCATION:NM
ORGANIZER;CN="Girls Who Code":MAILTO:info@girlswhocode.com
END:VEVENT
END:VCALENDAR