BEGIN:VCALENDAR
VERSION:2.0
PRODID:-//NMOST - ECPv6.15.20//NONSGML v1.0//EN
CALSCALE:GREGORIAN
METHOD:PUBLISH
X-WR-CALNAME:NMOST
X-ORIGINAL-URL:https://nmost.org
X-WR-CALDESC:Events for NMOST
REFRESH-INTERVAL;VALUE=DURATION:PT1H
X-Robots-Tag:noindex
X-PUBLISHED-TTL:PT1H
BEGIN:VTIMEZONE
TZID:America/Denver
BEGIN:DAYLIGHT
TZOFFSETFROM:-0700
TZOFFSETTO:-0600
TZNAME:MDT
DTSTART:20250309T090000
END:DAYLIGHT
BEGIN:STANDARD
TZOFFSETFROM:-0600
TZOFFSETTO:-0700
TZNAME:MST
DTSTART:20251102T080000
END:STANDARD
BEGIN:DAYLIGHT
TZOFFSETFROM:-0700
TZOFFSETTO:-0600
TZNAME:MDT
DTSTART:20260308T090000
END:DAYLIGHT
BEGIN:STANDARD
TZOFFSETFROM:-0600
TZOFFSETTO:-0700
TZNAME:MST
DTSTART:20261101T080000
END:STANDARD
BEGIN:DAYLIGHT
TZOFFSETFROM:-0700
TZOFFSETTO:-0600
TZNAME:MDT
DTSTART:20270314T090000
END:DAYLIGHT
BEGIN:STANDARD
TZOFFSETFROM:-0600
TZOFFSETTO:-0700
TZNAME:MST
DTSTART:20271107T080000
END:STANDARD
END:VTIMEZONE
BEGIN:VEVENT
DTSTART;TZID=America/Denver:20260429T160000
DTEND;TZID=America/Denver:20260429T170000
DTSTAMP:20260422T013758
CREATED:20260416T150726Z
LAST-MODIFIED:20260416T150726Z
UID:7282-1777478400-1777482000@nmost.org
SUMMARY:Teen Career Chats: Innovators Advancing STEM
DESCRIPTION:This month\, join STEM Next and industry leaders from BAE Systems\, Illumina\, MEFA\, and RTX to learn about how they forged their career paths in STEM. From biotech to aerospace engineering\, hear from a variety of industries to help you plot your next steps in STEM! \nLed by our own teen Flight Crew member Shireen from Arizona\, youth will have the opportunity to hear from and ask questions of: \n\nKarina Moreno\, a biotech engineer and process development engineer at Illumina\, an international biotech company.\nLori Seuch\, chief information officer at MEFA\, a quasi-state authority located in Boston\, Massachusetts.\nBrittany Wheeler\, D. Eng.\, is the associate director of manufacturing and Operations at RTX\, an aerospace company.\nJennifer Lemon is an engineer at BAE Systems\, an aerospace company.\n\nWhy you should be there: \n\nHear directly from professionals with fascinating STEM careers and different career paths\nLearn what skills and classes can help prepare you for various STEM-related careers\nAsk your questions during the live session\nDiscover how your interests today could connect to a future STEM career\n\nA recording of this panel will be available after the event. Register now to either join us live or to be the first to receive a copy of the recording! \nRegister
URL:https://nmost.org/event/teen-career-chats-innovators-advancing-stem/
LOCATION:NM
ORGANIZER;CN="STEM Next":MAILTO:info@stemnext.org
END:VEVENT
END:VCALENDAR