BEGIN:VCALENDAR
VERSION:2.0
PRODID:-//NMOST - ECPv6.15.20//NONSGML v1.0//EN
CALSCALE:GREGORIAN
METHOD:PUBLISH
X-ORIGINAL-URL:https://nmost.org
X-WR-CALDESC:Events for NMOST
REFRESH-INTERVAL;VALUE=DURATION:PT1H
X-Robots-Tag:noindex
X-PUBLISHED-TTL:PT1H
BEGIN:VTIMEZONE
TZID:America/Denver
BEGIN:DAYLIGHT
TZOFFSETFROM:-0700
TZOFFSETTO:-0600
TZNAME:MDT
DTSTART:20250309T090000
END:DAYLIGHT
BEGIN:STANDARD
TZOFFSETFROM:-0600
TZOFFSETTO:-0700
TZNAME:MST
DTSTART:20251102T080000
END:STANDARD
BEGIN:DAYLIGHT
TZOFFSETFROM:-0700
TZOFFSETTO:-0600
TZNAME:MDT
DTSTART:20260308T090000
END:DAYLIGHT
BEGIN:STANDARD
TZOFFSETFROM:-0600
TZOFFSETTO:-0700
TZNAME:MST
DTSTART:20261101T080000
END:STANDARD
BEGIN:DAYLIGHT
TZOFFSETFROM:-0700
TZOFFSETTO:-0600
TZNAME:MDT
DTSTART:20270314T090000
END:DAYLIGHT
BEGIN:STANDARD
TZOFFSETFROM:-0600
TZOFFSETTO:-0700
TZNAME:MST
DTSTART:20271107T080000
END:STANDARD
END:VTIMEZONE
BEGIN:VEVENT
DTSTART;TZID=America/Denver:20260507T140000
DTEND;TZID=America/Denver:20260507T160000
DTSTAMP:20260422T031611
CREATED:20260416T152725Z
LAST-MODIFIED:20260416T152725Z
UID:7287-1778162400-1778169600@nmost.org
SUMMARY:Explora: Bubble Bubble Workshop
DESCRIPTION:Bubble Bubble Teacher Workshop\n\n\nMay 7\, 2026 \n2 pm – 4 pm \nVirtual – zoom link sent the day before \nProfessional Development Workshop for educators\, early childhood teachers\, librarians\, and out-of-school time staff. \nExplore the power of surface tension as you try out a variety of wands\, build bubble sculptures\, create bubble art\, and observe colors in bubbles. Gain ideas on how to integrate literature and science. You’ll immediately be able to use the ideas with your students!\n \nRegister by April 29 for kit pick up or shipment for first 20 registrants. Sharing a login and kit of materials! \n\nPlease contact Explora with questions – education@explora.us \nThis workshop is funded with the support of the United Way of North Central New Mexico and offered at no cost to participants. \n\nThis professional development workshop is intended for adults and requires collaboration amongst peers. We encourage interested classrooms to inquire about our virtual and in-person program offerings found in the Explora Program Guide or email reservations@explora.us\n\n\nRegister
URL:https://nmost.org/event/explora-bubble-bubble-workshop/
LOCATION:NM
ORGANIZER;CN="Explora":MAILTO:explora@explora.us
END:VEVENT
END:VCALENDAR