BEGIN:VCALENDAR
VERSION:2.0
PRODID:-//NMOST - ECPv6.15.20//NONSGML v1.0//EN
CALSCALE:GREGORIAN
METHOD:PUBLISH
X-ORIGINAL-URL:https://nmost.org
X-WR-CALDESC:Events for NMOST
REFRESH-INTERVAL;VALUE=DURATION:PT1H
X-Robots-Tag:noindex
X-PUBLISHED-TTL:PT1H
BEGIN:VTIMEZONE
TZID:America/Denver
BEGIN:DAYLIGHT
TZOFFSETFROM:-0700
TZOFFSETTO:-0600
TZNAME:MDT
DTSTART:20250309T090000
END:DAYLIGHT
BEGIN:STANDARD
TZOFFSETFROM:-0600
TZOFFSETTO:-0700
TZNAME:MST
DTSTART:20251102T080000
END:STANDARD
BEGIN:DAYLIGHT
TZOFFSETFROM:-0700
TZOFFSETTO:-0600
TZNAME:MDT
DTSTART:20260308T090000
END:DAYLIGHT
BEGIN:STANDARD
TZOFFSETFROM:-0600
TZOFFSETTO:-0700
TZNAME:MST
DTSTART:20261101T080000
END:STANDARD
BEGIN:DAYLIGHT
TZOFFSETFROM:-0700
TZOFFSETTO:-0600
TZNAME:MDT
DTSTART:20270314T090000
END:DAYLIGHT
BEGIN:STANDARD
TZOFFSETFROM:-0600
TZOFFSETTO:-0700
TZNAME:MST
DTSTART:20271107T080000
END:STANDARD
END:VTIMEZONE
BEGIN:VEVENT
DTSTART;TZID=America/Denver:20260109T100000
DTEND;TZID=America/Denver:20260109T103000
DTSTAMP:20260422T044831
CREATED:20250923T170349Z
LAST-MODIFIED:20250923T183403Z
UID:6274-1767952800-1767954600@nmost.org
SUMMARY:Afterschool Policy Pulse
DESCRIPTION:Welcome to the Policy Pulse! Every second Friday at noon ET\, Afterschool Alliance Senior VP of Policy\, Erik Peterson\, will recap the latest policy developments\, what we know (or don’t know!) about how they may impact afterschool and summer programs\, and what may be coming up next. Submit your questions in advance so we know what’s top of mind for you: https://docs.google.com/forms/d/e/1FAIpQLScatCxIspYzqu7wSl2T-OWV2iipwr4CHsZF8Ttyn2UDbD_4jQ/viewform\n\n\nRegister
URL:https://nmost.org/event/afterschool-policy-pulse-11/
LOCATION:NM
END:VEVENT
BEGIN:VEVENT
DTSTART;TZID=America/Denver:20260115T120000
DTEND;TZID=America/Denver:20260115T130000
DTSTAMP:20260422T044831
CREATED:20251218T173342Z
LAST-MODIFIED:20251218T173342Z
UID:6452-1768478400-1768482000@nmost.org
SUMMARY:Applying for the New York Life Foundation's 2026 Aim High Grants for Middle School OST Programs
DESCRIPTION:The New York Life Foundation will make 40 grants to out-of-school time programs serving youth through their Aim High local grant program. Join us for this webinar to learn more about the funding opportunity\, eligibility requirements\, and expectations. The speakers will be Jan Brown\, Senior Program Officer at the New York Life Foundation\, and Dan Gilbert\, Director of Whole Child Initiatives at the Afterschool Alliance and administrator of the grant application and review process. Review the application and FAQ beforehand and have your questions ready\, and hear tips on submitting a strong application. \nThe Aim High program is part of the New York Life Foundation’s ongoing investment in middle school OST programs to help eighth-graders reach ninth grade on time. The grant program will fund a total of 40 afterschool\, summer and expanded learning programs nationwide\, based on a competitive application process. \nApplications are due February 6\, 2026 at 5 p.m. ET. To learn more about this grant opportunity\, view the full RFP and submit your application here. \nSpeakers: \n\nJan Brown\, Senior Program Officer\, New York Life Foundation\nDan Gilbert\, Director of Whole Child Initiatives\, Afterschool Alliance\n\nResources: \n\nAim High Grant Program – Homepage\nAim High Grant Program – Application Portal\nAim High Grant Program – Full Request for Proposals (PDF) \n\nRegister
URL:https://nmost.org/event/applying-for-the-new-york-life-foundations-2026-aim-high-grants-for-middle-school-ost-programs/
LOCATION:NM
END:VEVENT
BEGIN:VEVENT
DTSTART;TZID=America/Denver:20260115T130000
DTEND;TZID=America/Denver:20260115T140000
DTSTAMP:20260422T044831
CREATED:20251103T225311Z
LAST-MODIFIED:20251103T225311Z
UID:6366-1768482000-1768485600@nmost.org
SUMMARY:Brite Practices: Research-Based Guidance for Supporting STEM Identity Online
DESCRIPTION:Join us for an insightful webinar based on the successful Brite program\, where experts will share research-based guidance for supporting girls’ STEM identity development in online spaces.  \n\n\n\n\nBrite is an online\, interdisciplinary science\, technology\, engineering\, and mathematics (STEM) program built for girls ages 13-16 offered by National Girls Collaborative Project (NGCP) and Smart Girls HQ\, through initial funding from the National Science Foundation and continued funding from The Volgenau Foundation. During this exciting webinar\, Dr. Roxanne Hughes\, Associate Professor in Science Education at Florida State University\, will share research findings from the Brite program\, and the Brite team will walk participants through six “Brite Practices” that educators and program leaders can integrate into their own programming. Leave this webinar with the resources you need to cultivate an inclusive and engaging environment that creates a deeper connection to STEM and empowers young people to see themselves as future innovators! \nRegister
URL:https://nmost.org/event/brite-practices-research-based-guidance-for-supporting-stem-identity-online/
LOCATION:NM
END:VEVENT
BEGIN:VEVENT
DTSTART;TZID=America/Denver:20260116T100000
DTEND;TZID=America/Denver:20260116T110000
DTSTAMP:20260422T044831
CREATED:20251218T172934Z
LAST-MODIFIED:20251218T172934Z
UID:6447-1768557600-1768561200@nmost.org
SUMMARY:EdFunders OST Impact Group Monthly Field Convening: Youth Leadership and Youth Grantmaking
DESCRIPTION:Monthly Field Convening Calls\nJoin us on for the first Monthly Field Convening Call of the year on Friday\, January 16th from 12-1pm ET. We’ll highlight examples of youth leadership and youth grantmaking as well as share tools and resources for integrating best practices into your programming and grantmaking strategy. \nThis webinar is free and open to all. Register here.
URL:https://nmost.org/event/edfunders-ost-impact-group-monthly-field-convening-youth-leadership-and-youth-grantmaking/
LOCATION:NM
END:VEVENT
BEGIN:VEVENT
DTSTART;TZID=America/Denver:20260120T140000
DTEND;TZID=America/Denver:20260120T150000
DTSTAMP:20260422T044831
CREATED:20251218T174439Z
LAST-MODIFIED:20251218T174439Z
UID:6454-1768917600-1768921200@nmost.org
SUMMARY:January 2026 YEI Educator Power Hour: Igniting New Ideas for the New Year
DESCRIPTION:January 2026 YEI Educator Power Hour: Igniting New Ideas for the New Year \nRegister: http://pages.services/powerhour.youngentrepreneurinstitute.org/january-2026-power-hour-sign-in/?ts=1764793232140
URL:https://nmost.org/event/january-2026-yei-educator-power-hour-igniting-new-ideas-for-the-new-year/
LOCATION:NM
END:VEVENT
BEGIN:VEVENT
DTSTART;TZID=America/Denver:20260121T130000
DTEND;TZID=America/Denver:20260121T140000
DTSTAMP:20260422T044831
CREATED:20250910T211522Z
LAST-MODIFIED:20250910T211522Z
UID:6239-1769000400-1769004000@nmost.org
SUMMARY:Career-Connected Learning Training: Building Engineering & Awareness in Pre-K and Kindergarten
DESCRIPTION:STEM Next is accelerating our efforts to advance career-connected learning in afterschool and summer learning programs with our Career-Connected Learning Framework for Out-of-School Time Providers. In this training\, we will dive deep into the first phase of Career Awareness. With our partners at the Museum of Science in Boston\, we will explore curricular resources that are tailored to preschool and kindergarten contexts. Attendees will learn how engineering and career awareness can be integrated into existing activities to support literacy development\, number sense\, creativity\, and collaboration. \nAudience: This training is designed for out-of-school time program providers and staff\, including directors\, professional development and quality specialists\, and facilitators. It is also ideal for out-of-school time organizations\, including museum and library staff. \nAttendees who complete the post-training survey will be entered into a raffle to win a $100 Amazon gift card for their program. \n\n\n\nRegister
URL:https://nmost.org/event/career-connected-learning-training-building-engineering-awareness-in-pre-k-and-kindergarten/
LOCATION:NM
ORGANIZER;CN="STEM Next":MAILTO:info@stemnext.org
END:VEVENT
BEGIN:VEVENT
DTSTART;TZID=America/Denver:20260121T130000
DTEND;TZID=America/Denver:20260121T140000
DTSTAMP:20260422T044831
CREATED:20251002T171652Z
LAST-MODIFIED:20251002T171652Z
UID:6317-1769000400-1769004000@nmost.org
SUMMARY:Career-Connected Learning Training: Building Engineering & Awareness in Pre-K and Kindergarten
DESCRIPTION:STEM Next is accelerating our efforts to advance career-connected learning in afterschool and summer learning programs with our Career-Connected Learning Framework for Out-of-School Time Providers. In this training\, we will dive deep into the first phase of Career Awareness. With our partners at the Museum of Science in Boston\, we will explore curricular resources that are tailored to preschool and kindergarten contexts. Attendees will learn how engineering and career awareness can be integrated into existing activities to support literacy development\, number sense\, creativity\, and collaboration. \nAudience: This training is designed for out-of-school time program providers and staff\, including directors\, professional development and quality specialists\, and facilitators. It is also ideal for out-of-school time organizations\, including museum and library staff. \nAttendees who complete the post-training survey will be entered into a raffle to win a $100 Amazon gift card for their program. \n\n\n\nRegister
URL:https://nmost.org/event/career-connected-learning-training-building-engineering-awareness-in-pre-k-and-kindergarten-2/
LOCATION:NM
ORGANIZER;CN="STEM Next":MAILTO:info@stemnext.org
END:VEVENT
BEGIN:VEVENT
DTSTART;TZID=America/Denver:20260128T130000
DTEND;TZID=America/Denver:20260128T140000
DTSTAMP:20260422T044831
CREATED:20251218T173227Z
LAST-MODIFIED:20251218T173227Z
UID:6450-1769605200-1769608800@nmost.org
SUMMARY:Unlock Funding for Girls' STEM Programs: AI Tools to Transform Your Grant Finding and Proposal Writing Webinar
DESCRIPTION:This 90-minute workshop is designed to explore and practically examine the current applications of Artificial Intelligence (AI) within the critical work of fundraising and grant development. The session will focus on several key stages of the process\, including identifying potential funders (prospect research)\, the careful review and understanding of grant solicitations\, making strategic decisions about which opportunities to pursue\, navigating proposal review processes\, and techniques for writing strong\, successful proposals. Participants will be introduced to relevant AI tools that can be leveraged to streamline the funding search and significantly enhance the efficiency of their grant writing efforts. \nThis workshop is hosted by the California Girls STEM Collaborative. \nRegister
URL:https://nmost.org/event/unlock-funding-for-girls-stem-programs-ai-tools-to-transform-your-grant-finding-and-proposal-writing-webinar/
LOCATION:NM
END:VEVENT
BEGIN:VEVENT
DTSTART;TZID=America/Denver:20260129T110000
DTEND;TZID=America/Denver:20260129T120000
DTSTAMP:20260422T044831
CREATED:20250630T160015Z
LAST-MODIFIED:20250630T160015Z
UID:6048-1769684400-1769688000@nmost.org
SUMMARY:Centering Youth Voice in Adult-Centric Spaces
DESCRIPTION:Young people have the insight\, passion\, and lived experience to lead meaningful change—yet too often their voices are excluded from decisions that directly affect their lives. In this dynamic Thought Leader session\, we’ll explore what it truly means to center youth voice in traditionally adult-centric spaces such as school boards\, policymaking\, nonprofit leadership\, and community planning. \nJoin us as we unpack the challenges and opportunities of shared leadership with youth. Through powerful examples and practical strategies\, participants will learn how to authentically engage young people as equal partners in decision-making\, shift adult mindsets and structures to make space for youth leadership\, and create environments where intergenerational collaboration thrives. \nWhether you’re an educator\, nonprofit professional\, policy leader\, or advocate\, this session will offer fresh insights and actionable tools for transforming your space into one that uplifts and centers the voices of young people. \nRegister
URL:https://nmost.org/event/centering-youth-voice-in-adult-centric-spaces/
LOCATION:NM
END:VEVENT
END:VCALENDAR